BEGIN:VCALENDAR
VERSION:2.0
PRODID:-//ITA - International Firearm Training Academy - ECPv6.15.20//NONSGML v1.0//EN
CALSCALE:GREGORIAN
METHOD:PUBLISH
X-WR-CALNAME:ITA - International Firearm Training Academy
X-ORIGINAL-URL:https://www.itafirearmtraining.com
X-WR-CALDESC:Events for ITA - International Firearm Training Academy
REFRESH-INTERVAL;VALUE=DURATION:PT1H
X-Robots-Tag:noindex
X-PUBLISHED-TTL:PT1H
BEGIN:VTIMEZONE
TZID:Africa/Johannesburg
BEGIN:STANDARD
TZOFFSETFROM:+0200
TZOFFSETTO:+0200
TZNAME:SAST
DTSTART:20230101T000000
END:STANDARD
END:VTIMEZONE
BEGIN:VEVENT
DTSTART;TZID=Africa/Johannesburg:20260408T080000
DTEND;TZID=Africa/Johannesburg:20260409T163000
DTSTAMP:20260419T200830
CREATED:20260313T061032Z
LAST-MODIFIED:20260313T061032Z
UID:13178-1775635200-1775752200@www.itafirearmtraining.com
SUMMARY:ITA Competency & Business Purposes
DESCRIPTION:Includes the following unit standard: \n\nBusiness purposes handgun (U/S 123515)\nBusiness purposes self loading rifle or carbine (U/S 123511)\nBusiness purposes shotgun (U/S 123514)\nBusiness purposes manually operated rifle or carbine (U/S 123519)\n\nBooking essential
URL:https://www.itafirearmtraining.com/event/ita-competency-business-purposes-9/
LOCATION:ITA Training Centre\, 31 Voortrekker Road\, Mindalore\, Krugersdorp\, Gauteng\, South Africa
CATEGORIES:Business Purposes
ATTACH;FMTTYPE=image/jpeg:https://www.itafirearmtraining.com/wp-content/uploads/2025/07/Training-for-Business-Purposes.jpg
ORGANIZER;CN="ITA Firearm Training":MAILTO:support@itafirearmtraining.com
END:VEVENT
BEGIN:VEVENT
DTSTART;TZID=Africa/Johannesburg:20260323T080000
DTEND;TZID=Africa/Johannesburg:20260324T163000
DTSTAMP:20260419T200830
CREATED:20260313T060953Z
LAST-MODIFIED:20260313T060953Z
UID:13176-1774252800-1774369800@www.itafirearmtraining.com
SUMMARY:ITA Competency & Business Purposes
DESCRIPTION:Includes the following unit standard: \n\nBusiness purposes handgun (U/S 123515)\nBusiness purposes self loading rifle or carbine (U/S 123511)\nBusiness purposes shotgun (U/S 123514)\nBusiness purposes manually operated rifle or carbine (U/S 123519)\n\nBooking essential
URL:https://www.itafirearmtraining.com/event/ita-competency-business-purposes-8/
LOCATION:ITA Training Centre\, 31 Voortrekker Road\, Mindalore\, Krugersdorp\, Gauteng\, South Africa
CATEGORIES:Business Purposes
ATTACH;FMTTYPE=image/jpeg:https://www.itafirearmtraining.com/wp-content/uploads/2025/07/Training-for-Business-Purposes.jpg
ORGANIZER;CN="ITA Firearm Training":MAILTO:support@itafirearmtraining.com
END:VEVENT
BEGIN:VEVENT
DTSTART;TZID=Africa/Johannesburg:20260303T080000
DTEND;TZID=Africa/Johannesburg:20260304T163000
DTSTAMP:20260419T200830
CREATED:20251109T131507Z
LAST-MODIFIED:20251109T131507Z
UID:12987-1772524800-1772641800@www.itafirearmtraining.com
SUMMARY:ITA Competency & Business Purposes
DESCRIPTION:Includes the following unit standard: \n\nBusiness purposes handgun (U/S 123515)\nBusiness purposes self loading rifle or carbine (U/S 123511)\nBusiness purposes shotgun (U/S 123514)\nBusiness purposes manually operated rifle or carbine (U/S 123519)\n\nBooking essential
URL:https://www.itafirearmtraining.com/event/ita-competency-business-purposes-7/
LOCATION:ITA Training Centre\, 31 Voortrekker Road\, Mindalore\, Krugersdorp\, Gauteng\, South Africa
CATEGORIES:Business Purposes
ATTACH;FMTTYPE=image/jpeg:https://www.itafirearmtraining.com/wp-content/uploads/2025/07/Training-for-Business-Purposes.jpg
ORGANIZER;CN="ITA Firearm Training":MAILTO:support@itafirearmtraining.com
END:VEVENT
BEGIN:VEVENT
DTSTART;TZID=Africa/Johannesburg:20260203T080000
DTEND;TZID=Africa/Johannesburg:20260204T163000
DTSTAMP:20260419T200830
CREATED:20251109T131004Z
LAST-MODIFIED:20251109T131004Z
UID:12979-1770105600-1770222600@www.itafirearmtraining.com
SUMMARY:ITA Competency & Business Purposes
DESCRIPTION:Includes the following unit standard: \n\nBusiness purposes handgun (U/S 123515)\nBusiness purposes self loading rifle or carbine (U/S 123511)\nBusiness purposes shotgun (U/S 123514)\nBusiness purposes manually operated rifle or carbine (U/S 123519)\n\nBooking essential
URL:https://www.itafirearmtraining.com/event/ita-competency-business-purposes-6/
LOCATION:ITA Training Centre\, 31 Voortrekker Road\, Mindalore\, Krugersdorp\, Gauteng\, South Africa
CATEGORIES:Business Purposes
ATTACH;FMTTYPE=image/jpeg:https://www.itafirearmtraining.com/wp-content/uploads/2025/07/Training-for-Business-Purposes.jpg
ORGANIZER;CN="ITA Firearm Training":MAILTO:support@itafirearmtraining.com
END:VEVENT
BEGIN:VEVENT
DTSTART;TZID=Africa/Johannesburg:20251203T080000
DTEND;TZID=Africa/Johannesburg:20251204T163000
DTSTAMP:20260419T200830
CREATED:20251109T140106Z
LAST-MODIFIED:20251109T140106Z
UID:13033-1764748800-1764865800@www.itafirearmtraining.com
SUMMARY:ITA Competency & Business Purposes
DESCRIPTION:Includes the following unit standard: \n\nBusiness purposes handgun (U/S 123515)\nBusiness purposes self loading rifle or carbine (U/S 123511)\nBusiness purposes shotgun (U/S 123514)\nBusiness purposes manually operated rifle or carbine (U/S 123519)\n\nBooking essential
URL:https://www.itafirearmtraining.com/event/ita-competency-business-purposes-12/
LOCATION:ITA Training Centre\, 31 Voortrekker Road\, Mindalore\, Krugersdorp\, Gauteng\, South Africa
CATEGORIES:Business Purposes
ATTACH;FMTTYPE=image/jpeg:https://www.itafirearmtraining.com/wp-content/uploads/2025/07/Training-for-Business-Purposes.jpg
ORGANIZER;CN="ITA Firearm Training":MAILTO:support@itafirearmtraining.com
END:VEVENT
BEGIN:VEVENT
DTSTART;TZID=Africa/Johannesburg:20251105T080000
DTEND;TZID=Africa/Johannesburg:20251106T163000
DTSTAMP:20260419T200830
CREATED:20251109T135824Z
LAST-MODIFIED:20251109T135824Z
UID:13025-1762329600-1762446600@www.itafirearmtraining.com
SUMMARY:ITA Competency & Business Purposes
DESCRIPTION:Includes the following unit standard: \n\nBusiness purposes handgun (U/S 123515)\nBusiness purposes self loading rifle or carbine (U/S 123511)\nBusiness purposes shotgun (U/S 123514)\nBusiness purposes manually operated rifle or carbine (U/S 123519)\n\nBooking essential
URL:https://www.itafirearmtraining.com/event/ita-competency-business-purposes-11/
LOCATION:ITA Training Centre\, 31 Voortrekker Road\, Mindalore\, Krugersdorp\, Gauteng\, South Africa
CATEGORIES:Business Purposes
ATTACH;FMTTYPE=image/jpeg:https://www.itafirearmtraining.com/wp-content/uploads/2025/07/Training-for-Business-Purposes.jpg
ORGANIZER;CN="ITA Firearm Training":MAILTO:support@itafirearmtraining.com
END:VEVENT
BEGIN:VEVENT
DTSTART;TZID=Africa/Johannesburg:20251001T080000
DTEND;TZID=Africa/Johannesburg:20251002T163000
DTSTAMP:20260419T200830
CREATED:20250819T064212Z
LAST-MODIFIED:20250922T094729Z
UID:12839-1759305600-1759422600@www.itafirearmtraining.com
SUMMARY:ITA Competency & Business Purposes
DESCRIPTION:Includes the following unit standard: \n\nBusiness purposes handgun (U/S 123515)\nBusiness purposes self loading rifle or carbine (U/S 123511)\nBusiness purposes shotgun (U/S 123514)\nBusiness purposes manually operated rifle or carbine (U/S 123519)\n\nBooking essential
URL:https://www.itafirearmtraining.com/event/ita-competency-business-purposes-5/
LOCATION:ITA Training Centre\, 31 Voortrekker Road\, Mindalore\, Krugersdorp\, Gauteng\, South Africa
CATEGORIES:Business Purposes
ATTACH;FMTTYPE=image/jpeg:https://www.itafirearmtraining.com/wp-content/uploads/2025/07/Training-for-Business-Purposes.jpg
ORGANIZER;CN="ITA Firearm Training":MAILTO:support@itafirearmtraining.com
END:VEVENT
BEGIN:VEVENT
DTSTART;TZID=Africa/Johannesburg:20250922T080000
DTEND;TZID=Africa/Johannesburg:20250923T163000
DTSTAMP:20260419T200830
CREATED:20250701T183420Z
LAST-MODIFIED:20250922T094050Z
UID:12804-1758528000-1758645000@www.itafirearmtraining.com
SUMMARY:ITA Competency & Business Purposes
DESCRIPTION:Includes the following unit standard: \n\nBusiness purposes handgun (U/S 123515)\nBusiness purposes self loading rifle or carbine (U/S 123511)\nBusiness purposes shotgun (U/S 123514)\nBusiness purposes manually operated rifle or carbine (U/S 123519)\n\nBooking essential
URL:https://www.itafirearmtraining.com/event/ita-competency-business-purposes-4/
LOCATION:ITA Training Centre\, 31 Voortrekker Road\, Mindalore\, Krugersdorp\, Gauteng\, South Africa
CATEGORIES:Business Purposes
ATTACH;FMTTYPE=image/jpeg:https://www.itafirearmtraining.com/wp-content/uploads/2025/07/Training-for-Business-Purposes.jpg
ORGANIZER;CN="ITA Firearm Training":MAILTO:support@itafirearmtraining.com
END:VEVENT
BEGIN:VEVENT
DTSTART;TZID=Africa/Johannesburg:20250903T080000
DTEND;TZID=Africa/Johannesburg:20250904T163000
DTSTAMP:20260419T200830
CREATED:20250701T183333Z
LAST-MODIFIED:20250922T093732Z
UID:12802-1756886400-1757003400@www.itafirearmtraining.com
SUMMARY:ITA Competency & Business Purposes
DESCRIPTION:Includes the following unit standard: \n\nBusiness purposes handgun (U/S 123515)\nBusiness purposes self loading rifle or carbine (U/S 123511)\nBusiness purposes shotgun (U/S 123514)\nBusiness purposes manually operated rifle or carbine (U/S 123519)\n\nBooking essential
URL:https://www.itafirearmtraining.com/event/ita-competency-business-purposes-3/
LOCATION:ITA Training Centre\, 31 Voortrekker Road\, Mindalore\, Krugersdorp\, Gauteng\, South Africa
CATEGORIES:Business Purposes
ATTACH;FMTTYPE=image/jpeg:https://www.itafirearmtraining.com/wp-content/uploads/2025/07/Training-for-Business-Purposes.jpg
ORGANIZER;CN="ITA Firearm Training":MAILTO:support@itafirearmtraining.com
END:VEVENT
BEGIN:VEVENT
DTSTART;TZID=Africa/Johannesburg:20250806T080000
DTEND;TZID=Africa/Johannesburg:20250807T170000
DTSTAMP:20260419T200830
CREATED:20250701T183252Z
LAST-MODIFIED:20250716T120534Z
UID:12800-1754467200-1754586000@www.itafirearmtraining.com
SUMMARY:ITA Competency & Business Purposes
DESCRIPTION:Includes the following unit standard: \n\nBusiness purposes handgun (U/S 123515)\nBusiness purposes self loading rifle or carbine (U/S 123511)\nBusiness purposes shotgun (U/S 123514)\nBusiness purposes manually operated rifle or carbine (U/S 123519)\n\nBooking essential
URL:https://www.itafirearmtraining.com/event/ita-competency-business-purposes-2/
LOCATION:ITA Training Centre\, 31 Voortrekker Road\, Mindalore\, Krugersdorp\, Gauteng\, South Africa
CATEGORIES:Business Purposes
ATTACH;FMTTYPE=image/jpeg:https://www.itafirearmtraining.com/wp-content/uploads/2025/07/Training-for-Business-Purposes.jpg
ORGANIZER;CN="ITA Firearm Training":MAILTO:support@itafirearmtraining.com
END:VEVENT
BEGIN:VEVENT
DTSTART;TZID=Africa/Johannesburg:20250702T080000
DTEND;TZID=Africa/Johannesburg:20250703T170000
DTSTAMP:20260419T200830
CREATED:20250701T183202Z
LAST-MODIFIED:20250701T183202Z
UID:12797-1751443200-1751562000@www.itafirearmtraining.com
SUMMARY:ITA Competency & Business Purposes
DESCRIPTION:Includes the following unit standard: \n\nBusiness purposes handgun (U/S 123515)\nBusiness purposes self loading rifle or carbine (U/S 123511)\nBusiness purposes shotgun (U/S 123514)\nBusiness purposes manually operated rifle or carbine (U/S 123519)\n\nBooking essential
URL:https://www.itafirearmtraining.com/event/ita-competency-business-purposes/
LOCATION:ITA Training Centre\, 31 Voortrekker Road\, Mindalore\, Krugersdorp\, Gauteng\, South Africa
CATEGORIES:Business Purposes
ATTACH;FMTTYPE=image/jpeg:https://www.itafirearmtraining.com/wp-content/uploads/2025/07/Training-for-Business-Purposes.jpg
ORGANIZER;CN="ITA Firearm Training":MAILTO:support@itafirearmtraining.com
END:VEVENT
BEGIN:VEVENT
DTSTART;TZID=Africa/Johannesburg:20250319T083000
DTEND;TZID=Africa/Johannesburg:20250319T170000
DTSTAMP:20260419T200830
CREATED:20250110T122004Z
LAST-MODIFIED:20250110T122004Z
UID:10664-1742373000-1742403600@www.itafirearmtraining.com
SUMMARY:Training for Regulation 21
DESCRIPTION:The purpose of this course is to ensure that security officers issued with firearms undergo at least one proper practical training and theoretical briefing session every 12 months. \nDuration: One day (May vary dependent on existing skill level and previous training received) \nBooking essential \nContact: support@itafirearmtraining.com
URL:https://www.itafirearmtraining.com/event/training-for-regulation-19-03-2025/
LOCATION:ITA Training Centre\, 31 Voortrekker Road\, Mindalore\, Krugersdorp\, Gauteng\, South Africa
CATEGORIES:Business Purposes
ATTACH;FMTTYPE=image/jpeg:https://www.itafirearmtraining.com/wp-content/uploads/2024/07/REG-21.jpg
ORGANIZER;CN="ITA Firearm Training":MAILTO:support@itafirearmtraining.com
END:VEVENT
BEGIN:VEVENT
DTSTART;TZID=Africa/Johannesburg:20250319T080000
DTEND;TZID=Africa/Johannesburg:20250319T170000
DTSTAMP:20260419T200830
CREATED:20250119T142514Z
LAST-MODIFIED:20250119T142514Z
UID:12582-1742371200-1742403600@www.itafirearmtraining.com
SUMMARY:ITA Competency & Business Purposes – Legal & Basic Handgun
DESCRIPTION:Includes the following unit standard: \n\nTBC (U/S 123515)\n\nBooking essential
URL:https://www.itafirearmtraining.com/event/ita-competency-business-purposes-legal-basic-handgun-19/
LOCATION:ITA Training Centre\, 31 Voortrekker Road\, Mindalore\, Krugersdorp\, Gauteng\, South Africa
CATEGORIES:Business Purposes
ATTACH;FMTTYPE=image/jpeg:https://www.itafirearmtraining.com/wp-content/uploads/2024/03/ITA-BP-Handgun.jpg
ORGANIZER;CN="ITA Firearm Training":MAILTO:support@itafirearmtraining.com
END:VEVENT
BEGIN:VEVENT
DTSTART;TZID=Africa/Johannesburg:20250318T080000
DTEND;TZID=Africa/Johannesburg:20250318T170000
DTSTAMP:20260419T200830
CREATED:20250119T142343Z
LAST-MODIFIED:20250119T142343Z
UID:12581-1742284800-1742317200@www.itafirearmtraining.com
SUMMARY:ITA Competency & Business Purposes – Legal & Basic Shotgun
DESCRIPTION:Includes the following unit standards: \n\nBusiness Purposes Shotgun (U/S 123514)\nBusiness Purposes Bolt Action Rifle (U/S 123519)\nBusiness Purposes Self-Loading Rifle (U/S 123511)\n\nBooking essential
URL:https://www.itafirearmtraining.com/event/ita-competency-business-purposes-legal-basic-shotgun-19/
LOCATION:ITA Training Centre\, 31 Voortrekker Road\, Mindalore\, Krugersdorp\, Gauteng\, South Africa
CATEGORIES:Business Purposes
ATTACH;FMTTYPE=image/jpeg:https://www.itafirearmtraining.com/wp-content/uploads/2024/03/ITA-Business-Purposes.jpg
ORGANIZER;CN="ITA Firearm Training":MAILTO:support@itafirearmtraining.com
END:VEVENT
BEGIN:VEVENT
DTSTART;TZID=Africa/Johannesburg:20250305T083000
DTEND;TZID=Africa/Johannesburg:20250305T170000
DTSTAMP:20260419T200830
CREATED:20250110T121737Z
LAST-MODIFIED:20250110T121737Z
UID:10662-1741163400-1741194000@www.itafirearmtraining.com
SUMMARY:Training for Regulation 21
DESCRIPTION:The purpose of this course is to ensure that security officers issued with firearms undergo at least one proper practical training and theoretical briefing session every 12 months. \nDuration: One day (May vary dependent on existing skill level and previous training received) \nBooking essential \nContact: support@itafirearmtraining.com
URL:https://www.itafirearmtraining.com/event/training-for-regulation-05-03-2025/
LOCATION:ITA Training Centre\, 31 Voortrekker Road\, Mindalore\, Krugersdorp\, Gauteng\, South Africa
CATEGORIES:Business Purposes
ATTACH;FMTTYPE=image/jpeg:https://www.itafirearmtraining.com/wp-content/uploads/2024/07/REG-21.jpg
ORGANIZER;CN="ITA Firearm Training":MAILTO:support@itafirearmtraining.com
END:VEVENT
BEGIN:VEVENT
DTSTART;TZID=Africa/Johannesburg:20250305T080000
DTEND;TZID=Africa/Johannesburg:20250305T170000
DTSTAMP:20260419T200830
CREATED:20250119T141738Z
LAST-MODIFIED:20250119T141738Z
UID:12579-1741161600-1741194000@www.itafirearmtraining.com
SUMMARY:ITA Competency & Business Purposes – Legal & Basic Handgun
DESCRIPTION:Includes the following unit standard: \n\nTBC (U/S 123515)\n\nBooking essential
URL:https://www.itafirearmtraining.com/event/ita-competency-business-purposes-legal-basic-handgun-18/
LOCATION:ITA Training Centre\, 31 Voortrekker Road\, Mindalore\, Krugersdorp\, Gauteng\, South Africa
CATEGORIES:Business Purposes
ATTACH;FMTTYPE=image/jpeg:https://www.itafirearmtraining.com/wp-content/uploads/2024/03/ITA-BP-Handgun.jpg
ORGANIZER;CN="ITA Firearm Training":MAILTO:support@itafirearmtraining.com
END:VEVENT
BEGIN:VEVENT
DTSTART;TZID=Africa/Johannesburg:20250304T080000
DTEND;TZID=Africa/Johannesburg:20250304T170000
DTSTAMP:20260419T200830
CREATED:20250119T141534Z
LAST-MODIFIED:20250119T141534Z
UID:12577-1741075200-1741107600@www.itafirearmtraining.com
SUMMARY:ITA Competency & Business Purposes – Legal & Basic Shotgun
DESCRIPTION:Includes the following unit standards: \n\nBusiness Purposes Shotgun (U/S 123514)\nBusiness Purposes Bolt Action Rifle (U/S 123519)\nBusiness Purposes Self-Loading Rifle (U/S 123511)\n\nBooking essential
URL:https://www.itafirearmtraining.com/event/ita-competency-business-purposes-legal-basic-shotgun-18/
LOCATION:ITA Training Centre\, 31 Voortrekker Road\, Mindalore\, Krugersdorp\, Gauteng\, South Africa
CATEGORIES:Business Purposes
ATTACH;FMTTYPE=image/jpeg:https://www.itafirearmtraining.com/wp-content/uploads/2024/03/ITA-Business-Purposes.jpg
ORGANIZER;CN="ITA Firearm Training":MAILTO:support@itafirearmtraining.com
END:VEVENT
BEGIN:VEVENT
DTSTART;TZID=Africa/Johannesburg:20250226T083000
DTEND;TZID=Africa/Johannesburg:20250226T170000
DTSTAMP:20260419T200830
CREATED:20250110T121510Z
LAST-MODIFIED:20250110T121510Z
UID:10660-1740558600-1740589200@www.itafirearmtraining.com
SUMMARY:Training for Regulation 21
DESCRIPTION:The purpose of this course is to ensure that security officers issued with firearms undergo at least one proper practical training and theoretical briefing session every 12 months. \nDuration: One day (May vary dependent on existing skill level and previous training received) \nBooking essential \nContact: support@itafirearmtraining.com
URL:https://www.itafirearmtraining.com/event/training-for-regulation-26-02-2025/
LOCATION:ITA Training Centre\, 31 Voortrekker Road\, Mindalore\, Krugersdorp\, Gauteng\, South Africa
CATEGORIES:Business Purposes
ATTACH;FMTTYPE=image/jpeg:https://www.itafirearmtraining.com/wp-content/uploads/2024/07/REG-21.jpg
ORGANIZER;CN="ITA Firearm Training":MAILTO:support@itafirearmtraining.com
END:VEVENT
BEGIN:VEVENT
DTSTART;TZID=Africa/Johannesburg:20250226T080000
DTEND;TZID=Africa/Johannesburg:20250226T170000
DTSTAMP:20260419T200830
CREATED:20250119T141300Z
LAST-MODIFIED:20250119T141300Z
UID:12575-1740556800-1740589200@www.itafirearmtraining.com
SUMMARY:ITA Competency & Business Purposes – Legal & Basic Handgun
DESCRIPTION:Includes the following unit standard: \n\nTBC (U/S 123515)\n\nBooking essential
URL:https://www.itafirearmtraining.com/event/ita-competency-business-purposes-legal-basic-handgun-17/
LOCATION:ITA Training Centre\, 31 Voortrekker Road\, Mindalore\, Krugersdorp\, Gauteng\, South Africa
CATEGORIES:Business Purposes
ATTACH;FMTTYPE=image/jpeg:https://www.itafirearmtraining.com/wp-content/uploads/2024/03/ITA-BP-Handgun.jpg
ORGANIZER;CN="ITA Firearm Training":MAILTO:support@itafirearmtraining.com
END:VEVENT
BEGIN:VEVENT
DTSTART;TZID=Africa/Johannesburg:20250225T080000
DTEND;TZID=Africa/Johannesburg:20250225T170000
DTSTAMP:20260419T200830
CREATED:20250119T141126Z
LAST-MODIFIED:20250119T141126Z
UID:12573-1740470400-1740502800@www.itafirearmtraining.com
SUMMARY:ITA Competency & Business Purposes – Legal & Basic Shotgun
DESCRIPTION:Includes the following unit standards: \n\nBusiness Purposes Shotgun (U/S 123514)\nBusiness Purposes Bolt Action Rifle (U/S 123519)\nBusiness Purposes Self-Loading Rifle (U/S 123511)\n\nBooking essential
URL:https://www.itafirearmtraining.com/event/ita-competency-business-purposes-legal-basic-shotgun-17/
LOCATION:ITA Training Centre\, 31 Voortrekker Road\, Mindalore\, Krugersdorp\, Gauteng\, South Africa
CATEGORIES:Business Purposes
ATTACH;FMTTYPE=image/jpeg:https://www.itafirearmtraining.com/wp-content/uploads/2024/03/ITA-Business-Purposes.jpg
ORGANIZER;CN="ITA Firearm Training":MAILTO:support@itafirearmtraining.com
END:VEVENT
BEGIN:VEVENT
DTSTART;TZID=Africa/Johannesburg:20250204T083000
DTEND;TZID=Africa/Johannesburg:20250204T170000
DTSTAMP:20260419T200830
CREATED:20250110T115618Z
LAST-MODIFIED:20250110T115618Z
UID:10658-1738657800-1738688400@www.itafirearmtraining.com
SUMMARY:Training for Regulation 21
DESCRIPTION:The purpose of this course is to ensure that security officers issued with firearms undergo at least one proper practical training and theoretical briefing session every 12 months. \nDuration: One day (May vary dependent on existing skill level and previous training received) \nBooking essential \nContact: support@itafirearmtraining.com
URL:https://www.itafirearmtraining.com/event/training-for-regulation-04-02-2025/
LOCATION:ITA Training Centre\, 31 Voortrekker Road\, Mindalore\, Krugersdorp\, Gauteng\, South Africa
CATEGORIES:Business Purposes
ATTACH;FMTTYPE=image/jpeg:https://www.itafirearmtraining.com/wp-content/uploads/2024/07/REG-21.jpg
ORGANIZER;CN="ITA Firearm Training":MAILTO:support@itafirearmtraining.com
END:VEVENT
BEGIN:VEVENT
DTSTART;TZID=Africa/Johannesburg:20250204T080000
DTEND;TZID=Africa/Johannesburg:20250204T170000
DTSTAMP:20260419T200830
CREATED:20250119T140607Z
LAST-MODIFIED:20250119T140607Z
UID:12571-1738656000-1738688400@www.itafirearmtraining.com
SUMMARY:ITA Competency & Business Purposes – Legal & Basic Handgun
DESCRIPTION:Includes the following unit standard: \n\nTBC (U/S 123515)\n\nBooking essential
URL:https://www.itafirearmtraining.com/event/ita-competency-business-purposes-legal-basic-handgun-16/
LOCATION:ITA Training Centre\, 31 Voortrekker Road\, Mindalore\, Krugersdorp\, Gauteng\, South Africa
CATEGORIES:Business Purposes
ATTACH;FMTTYPE=image/jpeg:https://www.itafirearmtraining.com/wp-content/uploads/2024/03/ITA-BP-Handgun.jpg
ORGANIZER;CN="ITA Firearm Training":MAILTO:support@itafirearmtraining.com
END:VEVENT
BEGIN:VEVENT
DTSTART;TZID=Africa/Johannesburg:20250203T080000
DTEND;TZID=Africa/Johannesburg:20250203T170000
DTSTAMP:20260419T200830
CREATED:20250119T140429Z
LAST-MODIFIED:20250119T140429Z
UID:12569-1738569600-1738602000@www.itafirearmtraining.com
SUMMARY:ITA Competency & Business Purposes – Legal & Basic Shotgun
DESCRIPTION:Includes the following unit standards: \n\nBusiness Purposes Shotgun (U/S 123514)\nBusiness Purposes Bolt Action Rifle (U/S 123519)\nBusiness Purposes Self-Loading Rifle (U/S 123511)\n\nBooking essential
URL:https://www.itafirearmtraining.com/event/ita-competency-business-purposes-legal-basic-shotgun-16/
LOCATION:ITA Training Centre\, 31 Voortrekker Road\, Mindalore\, Krugersdorp\, Gauteng\, South Africa
CATEGORIES:Business Purposes
ATTACH;FMTTYPE=image/jpeg:https://www.itafirearmtraining.com/wp-content/uploads/2024/03/ITA-Business-Purposes.jpg
ORGANIZER;CN="ITA Firearm Training":MAILTO:support@itafirearmtraining.com
END:VEVENT
BEGIN:VEVENT
DTSTART;TZID=Africa/Johannesburg:20250129T083000
DTEND;TZID=Africa/Johannesburg:20250129T170000
DTSTAMP:20260419T200830
CREATED:20250110T114903Z
LAST-MODIFIED:20250110T114903Z
UID:10656-1738139400-1738170000@www.itafirearmtraining.com
SUMMARY:Training for Regulation 21
DESCRIPTION:The purpose of this course is to ensure that security officers issued with firearms undergo at least one proper practical training and theoretical briefing session every 12 months. \nDuration: One day (May vary dependent on existing skill level and previous training received) \nBooking essential \nContact: support@itafirearmtraining.com
URL:https://www.itafirearmtraining.com/event/training-for-regulation-29-01-2025/
LOCATION:ITA Training Centre\, 31 Voortrekker Road\, Mindalore\, Krugersdorp\, Gauteng\, South Africa
CATEGORIES:Business Purposes
ATTACH;FMTTYPE=image/jpeg:https://www.itafirearmtraining.com/wp-content/uploads/2024/07/REG-21.jpg
ORGANIZER;CN="ITA Firearm Training":MAILTO:support@itafirearmtraining.com
END:VEVENT
BEGIN:VEVENT
DTSTART;TZID=Africa/Johannesburg:20250129T080000
DTEND;TZID=Africa/Johannesburg:20250129T170000
DTSTAMP:20260419T200830
CREATED:20250119T140129Z
LAST-MODIFIED:20250119T140129Z
UID:12567-1738137600-1738170000@www.itafirearmtraining.com
SUMMARY:ITA Competency & Business Purposes – Legal & Basic Handgun
DESCRIPTION:Includes the following unit standard: \n\nTBC (U/S 123515)\n\nBooking essential
URL:https://www.itafirearmtraining.com/event/ita-competency-business-purposes-legal-basic-handgun-15/
LOCATION:ITA Training Centre\, 31 Voortrekker Road\, Mindalore\, Krugersdorp\, Gauteng\, South Africa
CATEGORIES:Business Purposes
ATTACH;FMTTYPE=image/jpeg:https://www.itafirearmtraining.com/wp-content/uploads/2024/03/ITA-BP-Handgun.jpg
ORGANIZER;CN="ITA Firearm Training":MAILTO:support@itafirearmtraining.com
END:VEVENT
BEGIN:VEVENT
DTSTART;TZID=Africa/Johannesburg:20250128T080000
DTEND;TZID=Africa/Johannesburg:20250128T170000
DTSTAMP:20260419T200830
CREATED:20250119T135930Z
LAST-MODIFIED:20250119T135930Z
UID:12565-1738051200-1738083600@www.itafirearmtraining.com
SUMMARY:ITA Competency & Business Purposes – Legal & Basic Shotgun
DESCRIPTION:Includes the following unit standards: \n\nBusiness Purposes Shotgun (U/S 123514)\nBusiness Purposes Bolt Action Rifle (U/S 123519)\nBusiness Purposes Self-Loading Rifle (U/S 123511)\n\nBooking essential
URL:https://www.itafirearmtraining.com/event/ita-competency-business-purposes-legal-basic-shotgun-15/
LOCATION:ITA Training Centre\, 31 Voortrekker Road\, Mindalore\, Krugersdorp\, Gauteng\, South Africa
CATEGORIES:Business Purposes
ATTACH;FMTTYPE=image/jpeg:https://www.itafirearmtraining.com/wp-content/uploads/2024/03/ITA-Business-Purposes.jpg
ORGANIZER;CN="ITA Firearm Training":MAILTO:support@itafirearmtraining.com
END:VEVENT
BEGIN:VEVENT
DTSTART;TZID=Africa/Johannesburg:20250115T083000
DTEND;TZID=Africa/Johannesburg:20250115T170000
DTSTAMP:20260419T200830
CREATED:20250110T114603Z
LAST-MODIFIED:20250110T114603Z
UID:10654-1736929800-1736960400@www.itafirearmtraining.com
SUMMARY:Training for Regulation 21
DESCRIPTION:The purpose of this course is to ensure that security officers issued with firearms undergo at least one proper practical training and theoretical briefing session every 12 months. \nDuration: One day (May vary dependent on existing skill level and previous training received) \nBooking essential \nContact: support@itafirearmtraining.com
URL:https://www.itafirearmtraining.com/event/training-for-regulation-15-01-2025/
LOCATION:ITA Training Centre\, 31 Voortrekker Road\, Mindalore\, Krugersdorp\, Gauteng\, South Africa
CATEGORIES:Business Purposes
ATTACH;FMTTYPE=image/jpeg:https://www.itafirearmtraining.com/wp-content/uploads/2024/07/REG-21.jpg
ORGANIZER;CN="ITA Firearm Training":MAILTO:support@itafirearmtraining.com
END:VEVENT
BEGIN:VEVENT
DTSTART;TZID=Africa/Johannesburg:20250115T080000
DTEND;TZID=Africa/Johannesburg:20250115T170000
DTSTAMP:20260419T200830
CREATED:20250119T135641Z
LAST-MODIFIED:20250119T135641Z
UID:12563-1736928000-1736960400@www.itafirearmtraining.com
SUMMARY:ITA Competency & Business Purposes – Legal & Basic Handgun
DESCRIPTION:Includes the following unit standard: \n\nTBC (U/S 123515)\n\nBooking essential
URL:https://www.itafirearmtraining.com/event/ita-competency-business-purposes-legal-basic-handgun-14/
LOCATION:ITA Training Centre\, 31 Voortrekker Road\, Mindalore\, Krugersdorp\, Gauteng\, South Africa
CATEGORIES:Business Purposes
ATTACH;FMTTYPE=image/jpeg:https://www.itafirearmtraining.com/wp-content/uploads/2024/03/ITA-BP-Handgun.jpg
ORGANIZER;CN="ITA Firearm Training":MAILTO:support@itafirearmtraining.com
END:VEVENT
BEGIN:VEVENT
DTSTART;TZID=Africa/Johannesburg:20250114T080000
DTEND;TZID=Africa/Johannesburg:20250114T170000
DTSTAMP:20260419T200830
CREATED:20250119T135519Z
LAST-MODIFIED:20250119T135519Z
UID:12561-1736841600-1736874000@www.itafirearmtraining.com
SUMMARY:ITA Competency & Business Purposes – Legal & Basic Shotgun
DESCRIPTION:Includes the following unit standards: \n\nBusiness Purposes Shotgun (U/S 123514)\nBusiness Purposes Bolt Action Rifle (U/S 123519)\nBusiness Purposes Self-Loading Rifle (U/S 123511)\n\nBooking essential
URL:https://www.itafirearmtraining.com/event/ita-competency-business-purposes-legal-basic-shotgun-14/
LOCATION:ITA Training Centre\, 31 Voortrekker Road\, Mindalore\, Krugersdorp\, Gauteng\, South Africa
CATEGORIES:Business Purposes
ATTACH;FMTTYPE=image/jpeg:https://www.itafirearmtraining.com/wp-content/uploads/2024/03/ITA-Business-Purposes.jpg
ORGANIZER;CN="ITA Firearm Training":MAILTO:support@itafirearmtraining.com
END:VEVENT
BEGIN:VEVENT
DTSTART;TZID=Africa/Johannesburg:20241129T080000
DTEND;TZID=Africa/Johannesburg:20241129T170000
DTSTAMP:20260419T200830
CREATED:20241022T191132Z
LAST-MODIFIED:20241022T191132Z
UID:9697-1732867200-1732899600@www.itafirearmtraining.com
SUMMARY:ITA Competency & Business Purposes – Legal & Basic Handgun
DESCRIPTION:Includes the following unit standard: \n\nTBC (U/S 123515)\n\nBooking essential
URL:https://www.itafirearmtraining.com/event/ita-competency-business-purposes-legal-basic-handgun-13/
LOCATION:ITA Training Centre\, 31 Voortrekker Road\, Mindalore\, Krugersdorp\, Gauteng\, South Africa
CATEGORIES:Business Purposes
ATTACH;FMTTYPE=image/jpeg:https://www.itafirearmtraining.com/wp-content/uploads/2024/03/ITA-BP-Handgun.jpg
ORGANIZER;CN="ITA Firearm Training":MAILTO:support@itafirearmtraining.com
END:VEVENT
END:VCALENDAR