BEGIN:VCALENDAR
VERSION:2.0
PRODID:-//ITA - International Firearm Training Academy - ECPv6.15.20//NONSGML v1.0//EN
CALSCALE:GREGORIAN
METHOD:PUBLISH
X-WR-CALNAME:ITA - International Firearm Training Academy
X-ORIGINAL-URL:https://www.itafirearmtraining.com
X-WR-CALDESC:Events for ITA - International Firearm Training Academy
REFRESH-INTERVAL;VALUE=DURATION:PT1H
X-Robots-Tag:noindex
X-PUBLISHED-TTL:PT1H
BEGIN:VTIMEZONE
TZID:Africa/Johannesburg
BEGIN:STANDARD
TZOFFSETFROM:+0200
TZOFFSETTO:+0200
TZNAME:SAST
DTSTART:20230101T000000
END:STANDARD
END:VTIMEZONE
BEGIN:VEVENT
DTSTART;TZID=Africa/Johannesburg:20240828T080000
DTEND;TZID=Africa/Johannesburg:20240828T170000
DTSTAMP:20260420T025749
CREATED:20240718T094210Z
LAST-MODIFIED:20240718T094210Z
UID:6043-1724832000-1724864400@www.itafirearmtraining.com
SUMMARY:ITA Competency & Business Purposes – Legal & Basic Handgun
DESCRIPTION:Includes the following unit standard: \n\nTBC (U/S 123515)\n\nBooking essential
URL:https://www.itafirearmtraining.com/event/ita-competency-business-purposes-legal-basic-handgun-8/
LOCATION:ITA Training Centre\, 31 Voortrekker Road\, Mindalore\, Krugersdorp\, Gauteng\, South Africa
CATEGORIES:Business Purposes
ATTACH;FMTTYPE=image/jpeg:https://www.itafirearmtraining.com/wp-content/uploads/2024/03/ITA-BP-Handgun.jpg
ORGANIZER;CN="ITA Firearm Training":MAILTO:support@itafirearmtraining.com
END:VEVENT
BEGIN:VEVENT
DTSTART;TZID=Africa/Johannesburg:20240827T083000
DTEND;TZID=Africa/Johannesburg:20240827T170000
DTSTAMP:20260420T025749
CREATED:20240701T084006Z
LAST-MODIFIED:20240701T084006Z
UID:5952-1724747400-1724778000@www.itafirearmtraining.com
SUMMARY:Training for Regulation 21
DESCRIPTION:The purpose of this course is to ensure that security officers issued with firearms undergo at least one proper practical training and theoretical briefing session every 12 months. \nDuration: One day (May vary dependent on existing skill level and previous training received) \nBooking essential \nContact: support@itafirearmtraining.com
URL:https://www.itafirearmtraining.com/event/training-for-regulation-21-3/
LOCATION:ITA Training Centre\, 31 Voortrekker Road\, Mindalore\, Krugersdorp\, Gauteng\, South Africa
CATEGORIES:Business Purposes
ATTACH;FMTTYPE=image/jpeg:https://www.itafirearmtraining.com/wp-content/uploads/2024/07/REG-21.jpg
ORGANIZER;CN="ITA Firearm Training":MAILTO:support@itafirearmtraining.com
END:VEVENT
BEGIN:VEVENT
DTSTART;TZID=Africa/Johannesburg:20240725T080000
DTEND;TZID=Africa/Johannesburg:20240725T170000
DTSTAMP:20260420T025749
CREATED:20240517T121134Z
LAST-MODIFIED:20240517T121134Z
UID:5740-1721894400-1721926800@www.itafirearmtraining.com
SUMMARY:ITA Competency & Business Purposes – Legal & Basic Shotgun
DESCRIPTION:Includes the following unit standards: \n\nBusiness Purposes Shotgun (U/S 123514)\nBusiness Purposes Bolt Action Rifle (U/S 123519)\nBusiness Purposes Self-Loading Rifle (U/S 123511)\n\nBooking essential
URL:https://www.itafirearmtraining.com/event/ita-competency-business-purposes-legal-basic-shotgun-7/
LOCATION:ITA Training Centre\, 31 Voortrekker Road\, Mindalore\, Krugersdorp\, Gauteng\, South Africa
CATEGORIES:Business Purposes
ATTACH;FMTTYPE=image/jpeg:https://www.itafirearmtraining.com/wp-content/uploads/2024/03/ITA-Business-Purposes.jpg
ORGANIZER;CN="ITA Firearm Training":MAILTO:support@itafirearmtraining.com
END:VEVENT
BEGIN:VEVENT
DTSTART;TZID=Africa/Johannesburg:20240724T080000
DTEND;TZID=Africa/Johannesburg:20240724T170000
DTSTAMP:20260420T025749
CREATED:20240517T121053Z
LAST-MODIFIED:20240517T121053Z
UID:5738-1721808000-1721840400@www.itafirearmtraining.com
SUMMARY:ITA Competency & Business Purposes – Legal & Basic Handgun
DESCRIPTION:Includes the following unit standard: \n\nTBC (U/S 123515)\n\nBooking essential
URL:https://www.itafirearmtraining.com/event/ita-competency-business-purposes-legal-basic-handgun-7/
LOCATION:ITA Training Centre\, 31 Voortrekker Road\, Mindalore\, Krugersdorp\, Gauteng\, South Africa
CATEGORIES:Business Purposes
ATTACH;FMTTYPE=image/jpeg:https://www.itafirearmtraining.com/wp-content/uploads/2024/03/ITA-BP-Handgun.jpg
ORGANIZER;CN="ITA Firearm Training":MAILTO:support@itafirearmtraining.com
END:VEVENT
BEGIN:VEVENT
DTSTART;TZID=Africa/Johannesburg:20240723T083000
DTEND;TZID=Africa/Johannesburg:20240723T170000
DTSTAMP:20260420T025749
CREATED:20240701T083939Z
LAST-MODIFIED:20240701T083939Z
UID:5951-1721723400-1721754000@www.itafirearmtraining.com
SUMMARY:Training for Regulation 21
DESCRIPTION:The purpose of this course is to ensure that security officers issued with firearms undergo at least one proper practical training and theoretical briefing session every 12 months. \nDuration: One day (May vary dependent on existing skill level and previous training received) \nBooking essential \nContact: support@itafirearmtraining.com
URL:https://www.itafirearmtraining.com/event/training-for-regulation-21-2/
LOCATION:ITA Training Centre\, 31 Voortrekker Road\, Mindalore\, Krugersdorp\, Gauteng\, South Africa
CATEGORIES:Business Purposes
ATTACH;FMTTYPE=image/jpeg:https://www.itafirearmtraining.com/wp-content/uploads/2024/07/REG-21.jpg
ORGANIZER;CN="ITA Firearm Training":MAILTO:support@itafirearmtraining.com
END:VEVENT
BEGIN:VEVENT
DTSTART;TZID=Africa/Johannesburg:20240711T080000
DTEND;TZID=Africa/Johannesburg:20240711T170000
DTSTAMP:20260420T025749
CREATED:20240517T121020Z
LAST-MODIFIED:20240517T121020Z
UID:5736-1720684800-1720717200@www.itafirearmtraining.com
SUMMARY:ITA Competency & Business Purposes – Legal & Basic Shotgun
DESCRIPTION:Includes the following unit standards: \n\nBusiness Purposes Shotgun (U/S 123514)\nBusiness Purposes Bolt Action Rifle (U/S 123519)\nBusiness Purposes Self-Loading Rifle (U/S 123511)\n\nBooking essential
URL:https://www.itafirearmtraining.com/event/ita-competency-business-purposes-legal-basic-shotgun-6/
LOCATION:ITA Training Centre\, 31 Voortrekker Road\, Mindalore\, Krugersdorp\, Gauteng\, South Africa
CATEGORIES:Business Purposes
ATTACH;FMTTYPE=image/jpeg:https://www.itafirearmtraining.com/wp-content/uploads/2024/03/ITA-Business-Purposes.jpg
ORGANIZER;CN="ITA Firearm Training":MAILTO:support@itafirearmtraining.com
END:VEVENT
BEGIN:VEVENT
DTSTART;TZID=Africa/Johannesburg:20240710T080000
DTEND;TZID=Africa/Johannesburg:20240710T170000
DTSTAMP:20260420T025749
CREATED:20240517T120952Z
LAST-MODIFIED:20240517T120952Z
UID:5734-1720598400-1720630800@www.itafirearmtraining.com
SUMMARY:ITA Competency & Business Purposes – Legal & Basic Handgun
DESCRIPTION:Includes the following unit standard: \n\nTBC (U/S 123515)\n\nBooking essential
URL:https://www.itafirearmtraining.com/event/ita-competency-business-purposes-legal-basic-handgun-6/
LOCATION:ITA Training Centre\, 31 Voortrekker Road\, Mindalore\, Krugersdorp\, Gauteng\, South Africa
CATEGORIES:Business Purposes
ATTACH;FMTTYPE=image/jpeg:https://www.itafirearmtraining.com/wp-content/uploads/2024/03/ITA-BP-Handgun.jpg
ORGANIZER;CN="ITA Firearm Training":MAILTO:support@itafirearmtraining.com
END:VEVENT
BEGIN:VEVENT
DTSTART;TZID=Africa/Johannesburg:20240627T080000
DTEND;TZID=Africa/Johannesburg:20240627T170000
DTSTAMP:20260420T025749
CREATED:20240409T102811Z
LAST-MODIFIED:20240409T102811Z
UID:5675-1719475200-1719507600@www.itafirearmtraining.com
SUMMARY:ITA Competency & Business Purposes – Legal & Basic Shotgun
DESCRIPTION:Includes the following unit standards: \n\nBusiness Purposes Shotgun (U/S 123514)\nBusiness Purposes Bolt Action Rifle (U/S 123519)\nBusiness Purposes Self-Loading Rifle (U/S 123511)\n\nBooking essential
URL:https://www.itafirearmtraining.com/event/ita-competency-business-purposes-legal-basic-shotgun-5/
LOCATION:ITA Training Centre\, 31 Voortrekker Road\, Mindalore\, Krugersdorp\, Gauteng\, South Africa
CATEGORIES:Business Purposes
ATTACH;FMTTYPE=image/jpeg:https://www.itafirearmtraining.com/wp-content/uploads/2024/03/ITA-Business-Purposes.jpg
ORGANIZER;CN="ITA Firearm Training":MAILTO:support@itafirearmtraining.com
END:VEVENT
BEGIN:VEVENT
DTSTART;TZID=Africa/Johannesburg:20240626T080000
DTEND;TZID=Africa/Johannesburg:20240626T170000
DTSTAMP:20260420T025749
CREATED:20240409T102752Z
LAST-MODIFIED:20240409T102752Z
UID:5673-1719388800-1719421200@www.itafirearmtraining.com
SUMMARY:ITA Competency & Business Purposes – Legal & Basic Handgun
DESCRIPTION:Includes the following unit standard: \n\nTBC (U/S 123515)\n\nBooking essential
URL:https://www.itafirearmtraining.com/event/ita-competency-business-purposes-legal-basic-handgun-5/
LOCATION:ITA Training Centre\, 31 Voortrekker Road\, Mindalore\, Krugersdorp\, Gauteng\, South Africa
CATEGORIES:Business Purposes
ATTACH;FMTTYPE=image/jpeg:https://www.itafirearmtraining.com/wp-content/uploads/2024/03/ITA-BP-Handgun.jpg
ORGANIZER;CN="ITA Firearm Training":MAILTO:support@itafirearmtraining.com
END:VEVENT
BEGIN:VEVENT
DTSTART;TZID=Africa/Johannesburg:20240625T083000
DTEND;TZID=Africa/Johannesburg:20240625T170000
DTSTAMP:20260420T025749
CREATED:20240701T083900Z
LAST-MODIFIED:20240701T083900Z
UID:5932-1719304200-1719334800@www.itafirearmtraining.com
SUMMARY:Training for Regulation 21
DESCRIPTION:The purpose of this course is to ensure that security officers issued with firearms undergo at least one proper practical training and theoretical briefing session every 12 months. \nDuration: One day (May vary dependent on existing skill level and previous training received) \nBooking essential \nContact: support@itafirearmtraining.com
URL:https://www.itafirearmtraining.com/event/training-for-regulation-21/
LOCATION:ITA Training Centre\, 31 Voortrekker Road\, Mindalore\, Krugersdorp\, Gauteng\, South Africa
CATEGORIES:Business Purposes
ATTACH;FMTTYPE=image/jpeg:https://www.itafirearmtraining.com/wp-content/uploads/2024/07/REG-21.jpg
ORGANIZER;CN="ITA Firearm Training":MAILTO:support@itafirearmtraining.com
END:VEVENT
BEGIN:VEVENT
DTSTART;TZID=Africa/Johannesburg:20240613T080000
DTEND;TZID=Africa/Johannesburg:20240613T170000
DTSTAMP:20260420T025749
CREATED:20240409T102725Z
LAST-MODIFIED:20240409T102725Z
UID:5671-1718265600-1718298000@www.itafirearmtraining.com
SUMMARY:ITA Competency & Business Purposes – Legal & Basic Shotgun
DESCRIPTION:Includes the following unit standards: \n\nBusiness Purposes Shotgun (U/S 123514)\nBusiness Purposes Bolt Action Rifle (U/S 123519)\nBusiness Purposes Self-Loading Rifle (U/S 123511)\n\nBooking essential
URL:https://www.itafirearmtraining.com/event/ita-competency-business-purposes-legal-basic-shotgun-4/
LOCATION:ITA Training Centre\, 31 Voortrekker Road\, Mindalore\, Krugersdorp\, Gauteng\, South Africa
CATEGORIES:Business Purposes
ATTACH;FMTTYPE=image/jpeg:https://www.itafirearmtraining.com/wp-content/uploads/2024/03/ITA-Business-Purposes.jpg
ORGANIZER;CN="ITA Firearm Training":MAILTO:support@itafirearmtraining.com
END:VEVENT
BEGIN:VEVENT
DTSTART;TZID=Africa/Johannesburg:20240612T080000
DTEND;TZID=Africa/Johannesburg:20240612T170000
DTSTAMP:20260420T025749
CREATED:20240409T102658Z
LAST-MODIFIED:20240409T102658Z
UID:5669-1718179200-1718211600@www.itafirearmtraining.com
SUMMARY:ITA Competency & Business Purposes – Legal & Basic Handgun
DESCRIPTION:Includes the following unit standard: \n\nTBC (U/S 123515)\n\nBooking essential
URL:https://www.itafirearmtraining.com/event/ita-competency-business-purposes-legal-basic-handgun-4/
LOCATION:ITA Training Centre\, 31 Voortrekker Road\, Mindalore\, Krugersdorp\, Gauteng\, South Africa
CATEGORIES:Business Purposes
ATTACH;FMTTYPE=image/jpeg:https://www.itafirearmtraining.com/wp-content/uploads/2024/03/ITA-BP-Handgun.jpg
ORGANIZER;CN="ITA Firearm Training":MAILTO:support@itafirearmtraining.com
END:VEVENT
BEGIN:VEVENT
DTSTART;TZID=Africa/Johannesburg:20240425T080000
DTEND;TZID=Africa/Johannesburg:20240425T170000
DTSTAMP:20260420T025749
CREATED:20240307T133405Z
LAST-MODIFIED:20240307T133405Z
UID:5601-1714032000-1714064400@www.itafirearmtraining.com
SUMMARY:ITA Competency & Business Purposes – Legal & Basic Shotgun
DESCRIPTION:Includes the following unit standards: \n\nBusiness Purposes Shotgun (U/S 123514)\nBusiness Purposes Bolt Action Rifle (U/S 123519)\nBusiness Purposes Self-Loading Rifle (U/S 123511)\n\nBooking essential
URL:https://www.itafirearmtraining.com/event/ita-competency-business-purposes-legal-basic-shotgun-3/
LOCATION:ITA Training Centre\, 31 Voortrekker Road\, Mindalore\, Krugersdorp\, Gauteng\, South Africa
CATEGORIES:Business Purposes
ATTACH;FMTTYPE=image/jpeg:https://www.itafirearmtraining.com/wp-content/uploads/2024/03/ITA-Business-Purposes.jpg
ORGANIZER;CN="ITA Firearm Training":MAILTO:support@itafirearmtraining.com
END:VEVENT
BEGIN:VEVENT
DTSTART;TZID=Africa/Johannesburg:20240424T080000
DTEND;TZID=Africa/Johannesburg:20240424T170000
DTSTAMP:20260420T025749
CREATED:20240307T135611Z
LAST-MODIFIED:20240307T135611Z
UID:5609-1713945600-1713978000@www.itafirearmtraining.com
SUMMARY:ITA Competency & Business Purposes – Legal & Basic Handgun
DESCRIPTION:Includes the following unit standard: \n\nTBC (U/S 123515)\n\nBooking essential
URL:https://www.itafirearmtraining.com/event/ita-competency-business-purposes-legal-basic-handgun-3/
LOCATION:ITA Training Centre\, 31 Voortrekker Road\, Mindalore\, Krugersdorp\, Gauteng\, South Africa
CATEGORIES:Business Purposes
ATTACH;FMTTYPE=image/jpeg:https://www.itafirearmtraining.com/wp-content/uploads/2024/03/ITA-BP-Handgun.jpg
ORGANIZER;CN="ITA Firearm Training":MAILTO:support@itafirearmtraining.com
END:VEVENT
END:VCALENDAR