BEGIN:VCALENDAR
VERSION:2.0
PRODID:-//ITA - International Firearm Training Academy - ECPv6.15.20//NONSGML v1.0//EN
CALSCALE:GREGORIAN
METHOD:PUBLISH
X-WR-CALNAME:ITA - International Firearm Training Academy
X-ORIGINAL-URL:https://www.itafirearmtraining.com
X-WR-CALDESC:Events for ITA - International Firearm Training Academy
REFRESH-INTERVAL;VALUE=DURATION:PT1H
X-Robots-Tag:noindex
X-PUBLISHED-TTL:PT1H
BEGIN:VTIMEZONE
TZID:Africa/Johannesburg
BEGIN:STANDARD
TZOFFSETFROM:+0200
TZOFFSETTO:+0200
TZNAME:SAST
DTSTART:20230101T000000
END:STANDARD
END:VTIMEZONE
BEGIN:VEVENT
DTSTART;TZID=Africa/Johannesburg:20240907T080000
DTEND;TZID=Africa/Johannesburg:20240907T170000
DTSTAMP:20260421T223858
CREATED:20240829T104359Z
LAST-MODIFIED:20240829T104359Z
UID:7665-1725696000-1725728400@www.itafirearmtraining.com
SUMMARY:ITA Competency & Private Use – Legal & Basic Handgun
DESCRIPTION:Includes the following unit standards: \n\nKnowledge of the Act (U/S 117705)\nBasic handgun (U/S 119649)\n\nBooking essential
URL:https://www.itafirearmtraining.com/event/ita-competency-private-use-legal-basic-handgun-25/
LOCATION:ITA Training Centre\, 31 Voortrekker Road\, Mindalore\, Krugersdorp\, Gauteng\, South Africa
CATEGORIES:Private Use and Competency
ATTACH;FMTTYPE=image/jpeg:https://www.itafirearmtraining.com/wp-content/uploads/2020/12/ITA-Training-for-compentency-applications-Handgun.jpg
ORGANIZER;CN="ITA Firearm Training":MAILTO:support@itafirearmtraining.com
END:VEVENT
BEGIN:VEVENT
DTSTART;VALUE=DATE:20240904
DTEND;VALUE=DATE:20240906
DTSTAMP:20260421T223858
CREATED:20240829T104333Z
LAST-MODIFIED:20240829T104333Z
UID:7663-1725490800-1725577199@www.itafirearmtraining.com
SUMMARY:ITA Competency & Private Use - Shotgun & Rifle(s)
DESCRIPTION:Includes the following unit standards: \n\nBasic Shotgun (U/S 119652)\nBasic Bolt Action Rifle (U/S 119651)\nBasic Selef-Loading Rifle (U/S 119650)\n\nBooking essential
URL:https://www.itafirearmtraining.com/event/ita-competency-private-use-shotgun-rifles-23/
LOCATION:ITA Training Centre\, 31 Voortrekker Road\, Mindalore\, Krugersdorp\, Gauteng\, South Africa
CATEGORIES:Private Use and Competency
ATTACH;FMTTYPE=image/jpeg:https://www.itafirearmtraining.com/wp-content/uploads/2020/12/ITA-Training-for-compentency-applications-Shotgun-BoltAction-SelfLoading.jpg
ORGANIZER;CN="ITA Firearm Training":MAILTO:support@itafirearmtraining.com
END:VEVENT
BEGIN:VEVENT
DTSTART;TZID=Africa/Johannesburg:20240904T080000
DTEND;TZID=Africa/Johannesburg:20240904T170000
DTSTAMP:20260421T223858
CREATED:20240829T104314Z
LAST-MODIFIED:20240829T104314Z
UID:7661-1725436800-1725469200@www.itafirearmtraining.com
SUMMARY:ITA Competency & Private Use – Legal & Basic Handgun
DESCRIPTION:Includes the following unit standards: \n\nKnowledge of the Act (U/S 117705)\nBasic handgun (U/S 119649)\n\nBooking essential
URL:https://www.itafirearmtraining.com/event/ita-competency-private-use-legal-basic-handgun-24/
LOCATION:ITA Training Centre\, 31 Voortrekker Road\, Mindalore\, Krugersdorp\, Gauteng\, South Africa
CATEGORIES:Private Use and Competency
ATTACH;FMTTYPE=image/jpeg:https://www.itafirearmtraining.com/wp-content/uploads/2020/12/ITA-Training-for-compentency-applications-Handgun.jpg
ORGANIZER;CN="ITA Firearm Training":MAILTO:support@itafirearmtraining.com
END:VEVENT
BEGIN:VEVENT
DTSTART;VALUE=DATE:20240828
DTEND;VALUE=DATE:20240830
DTSTAMP:20260421T223858
CREATED:20240718T094232Z
LAST-MODIFIED:20240718T094232Z
UID:6045-1724886000-1724972399@www.itafirearmtraining.com
SUMMARY:ITA Competency & Private Use - Shotgun & Rifle(s)
DESCRIPTION:Includes the following unit standards: \n\nBasic Shotgun (U/S 119652)\nBasic Bolt Action Rifle (U/S 119651)\nBasic Selef-Loading Rifle (U/S 119650)\n\nBooking essential
URL:https://www.itafirearmtraining.com/event/ita-competency-private-use-shotgun-rifles-22/
LOCATION:ITA Training Centre\, 31 Voortrekker Road\, Mindalore\, Krugersdorp\, Gauteng\, South Africa
CATEGORIES:Private Use and Competency
ATTACH;FMTTYPE=image/jpeg:https://www.itafirearmtraining.com/wp-content/uploads/2020/12/ITA-Training-for-compentency-applications-Shotgun-BoltAction-SelfLoading.jpg
ORGANIZER;CN="ITA Firearm Training":MAILTO:support@itafirearmtraining.com
END:VEVENT
BEGIN:VEVENT
DTSTART;TZID=Africa/Johannesburg:20240828T080000
DTEND;TZID=Africa/Johannesburg:20240828T170000
DTSTAMP:20260421T223858
CREATED:20240718T094210Z
LAST-MODIFIED:20240718T094210Z
UID:6043-1724832000-1724864400@www.itafirearmtraining.com
SUMMARY:ITA Competency & Business Purposes – Legal & Basic Handgun
DESCRIPTION:Includes the following unit standard: \n\nTBC (U/S 123515)\n\nBooking essential
URL:https://www.itafirearmtraining.com/event/ita-competency-business-purposes-legal-basic-handgun-8/
LOCATION:ITA Training Centre\, 31 Voortrekker Road\, Mindalore\, Krugersdorp\, Gauteng\, South Africa
CATEGORIES:Business Purposes
ATTACH;FMTTYPE=image/jpeg:https://www.itafirearmtraining.com/wp-content/uploads/2024/03/ITA-BP-Handgun.jpg
ORGANIZER;CN="ITA Firearm Training":MAILTO:support@itafirearmtraining.com
END:VEVENT
BEGIN:VEVENT
DTSTART;VALUE=DATE:20240827
DTEND;VALUE=DATE:20240831
DTSTAMP:20260421T223858
CREATED:20240718T093414Z
LAST-MODIFIED:20240718T093414Z
UID:6021-1724799600-1725058799@www.itafirearmtraining.com
SUMMARY:ITA Tactical Program Part 1 (Gauteng)
DESCRIPTION:Includes the following unit standards: \n\nApply Tactical Knowledge in the Use of Firearms (U/S 123510)\nDemonstrate Tactical Proficiency with a Handgun (U/S 123513)\nDemonstrate Tactical Proficiency with a Shotgun (U/S 123512)\nDemonstrate Tactical Proficiency with a Self-Loading Rifle (U/S 123518)\n\nTactical Range Officer can be added on if required (U/S 123517)
URL:https://www.itafirearmtraining.com/event/ita-tactical-program-part-1-gauteng/
LOCATION:ITA Training Centre\, 31 Voortrekker Road\, Mindalore\, Krugersdorp\, Gauteng\, South Africa
CATEGORIES:Tactical Training
ATTACH;FMTTYPE=image/jpeg:https://www.itafirearmtraining.com/wp-content/uploads/2020/12/ITA-Tactical-Training.jpg
ORGANIZER;CN="ITA Firearm Training":MAILTO:support@itafirearmtraining.com
END:VEVENT
BEGIN:VEVENT
DTSTART;TZID=Africa/Johannesburg:20240827T083000
DTEND;TZID=Africa/Johannesburg:20240827T170000
DTSTAMP:20260421T223858
CREATED:20240701T084006Z
LAST-MODIFIED:20240701T084006Z
UID:5952-1724747400-1724778000@www.itafirearmtraining.com
SUMMARY:Training for Regulation 21
DESCRIPTION:The purpose of this course is to ensure that security officers issued with firearms undergo at least one proper practical training and theoretical briefing session every 12 months. \nDuration: One day (May vary dependent on existing skill level and previous training received) \nBooking essential \nContact: support@itafirearmtraining.com
URL:https://www.itafirearmtraining.com/event/training-for-regulation-21-3/
LOCATION:ITA Training Centre\, 31 Voortrekker Road\, Mindalore\, Krugersdorp\, Gauteng\, South Africa
CATEGORIES:Business Purposes
ATTACH;FMTTYPE=image/jpeg:https://www.itafirearmtraining.com/wp-content/uploads/2024/07/REG-21.jpg
ORGANIZER;CN="ITA Firearm Training":MAILTO:support@itafirearmtraining.com
END:VEVENT
BEGIN:VEVENT
DTSTART;TZID=Africa/Johannesburg:20240823T083000
DTEND;TZID=Africa/Johannesburg:20240823T170000
DTSTAMP:20260421T223858
CREATED:20240325T143045Z
LAST-MODIFIED:20240325T143045Z
UID:5640-1724401800-1724432400@www.itafirearmtraining.com
SUMMARY:PFTC Grading Shoot
DESCRIPTION:Booking is essential so please liaise directly with Denica Spagna on (011) 955 6775 or admin@itafirearmtraining.com. \nThere is only limited space for this Grading Shoot. Individuals whose grading shoots have expired will be given preference. Bookings will be on a first come first serve basis. Please take along a copy of your identity book\, as well as your personal protection equipment\, firearms and sufficient ammunition. \nThe Range Fee will be R150.00 per shottist.
URL:https://www.itafirearmtraining.com/event/pftc-grading-shoot-3/
LOCATION:ITA Training Centre\, 31 Voortrekker Road\, Mindalore\, Krugersdorp\, Gauteng\, South Africa
CATEGORIES:Grading shoot
ATTACH;FMTTYPE=image/jpeg:https://www.itafirearmtraining.com/wp-content/uploads/2024/03/PFTC-Grading-Shoot-Course-Fully-Booked.jpg
ORGANIZER;CN="ITA Firearm Training":MAILTO:support@itafirearmtraining.com
END:VEVENT
BEGIN:VEVENT
DTSTART;TZID=Africa/Johannesburg:20240814T080000
DTEND;TZID=Africa/Johannesburg:20240814T170000
DTSTAMP:20260421T223858
CREATED:20240718T094043Z
LAST-MODIFIED:20240718T094043Z
UID:6037-1723622400-1723654800@www.itafirearmtraining.com
SUMMARY:ITA Competency & Private Use – Legal & Basic Handgun
DESCRIPTION:Includes the following unit standards: \n\nKnowledge of the Act (U/S 117705)\nBasic handgun (U/S 119649)\n\nBooking essential
URL:https://www.itafirearmtraining.com/event/ita-competency-private-use-legal-basic-handgun-23/
LOCATION:ITA Training Centre\, 31 Voortrekker Road\, Mindalore\, Krugersdorp\, Gauteng\, South Africa
CATEGORIES:Private Use and Competency
ATTACH;FMTTYPE=image/jpeg:https://www.itafirearmtraining.com/wp-content/uploads/2020/12/ITA-Training-for-compentency-applications-Handgun.jpg
ORGANIZER;CN="ITA Firearm Training":MAILTO:support@itafirearmtraining.com
END:VEVENT
BEGIN:VEVENT
DTSTART;TZID=Africa/Johannesburg:20240811T230000
DTEND;TZID=Africa/Johannesburg:20240823T225900
DTSTAMP:20260421T223858
CREATED:20240125T202054Z
LAST-MODIFIED:20240125T202054Z
UID:5548-1723417200-1724453940@www.itafirearmtraining.com
SUMMARY:ITA Instructor Program (Gauteng)
DESCRIPTION:Includes the following unit standards: \n\nSupervise Firearm Training (U/S 123520)\nConduct Outcomes Based Assessment (U/S 115753)\nConduct Targeted Training Using Given Methodologies (U/S 117870)\nRange Officer (U/S 123516)\n\nIncludes the PFTC Ethics workshop 2 (required for Instructor registration at PFTC)
URL:https://www.itafirearmtraining.com/event/ita-instructor-program-gauteng-aug/
LOCATION:ITA Training Centre\, 31 Voortrekker Road\, Mindalore\, Krugersdorp\, Gauteng\, South Africa
CATEGORIES:Instructor
ATTACH;FMTTYPE=image/jpeg:https://www.itafirearmtraining.com/wp-content/uploads/2020/12/ITA-Instructor-Program.jpg
ORGANIZER;CN="ITA Firearm Training":MAILTO:support@itafirearmtraining.com
END:VEVENT
BEGIN:VEVENT
DTSTART;VALUE=DATE:20240803
DTEND;VALUE=DATE:20240805
DTSTAMP:20260421T223858
CREATED:20240718T094131Z
LAST-MODIFIED:20240718T094131Z
UID:6041-1722726000-1722812399@www.itafirearmtraining.com
SUMMARY:ITA Competency & Private Use - Shotgun & Rifle(s)
DESCRIPTION:Includes the following unit standards: \n\nBasic Shotgun (U/S 119652)\nBasic Bolt Action Rifle (U/S 119651)\nBasic Selef-Loading Rifle (U/S 119650)\n\nBooking essential
URL:https://www.itafirearmtraining.com/event/ita-competency-private-use-shotgun-rifles-21/
LOCATION:ITA Training Centre\, 31 Voortrekker Road\, Mindalore\, Krugersdorp\, Gauteng\, South Africa
CATEGORIES:Private Use and Competency
ATTACH;FMTTYPE=image/jpeg:https://www.itafirearmtraining.com/wp-content/uploads/2020/12/ITA-Training-for-compentency-applications-Shotgun-BoltAction-SelfLoading.jpg
ORGANIZER;CN="ITA Firearm Training":MAILTO:support@itafirearmtraining.com
END:VEVENT
BEGIN:VEVENT
DTSTART;TZID=Africa/Johannesburg:20240803T080000
DTEND;TZID=Africa/Johannesburg:20240803T170000
DTSTAMP:20260421T223858
CREATED:20240718T094025Z
LAST-MODIFIED:20240718T094025Z
UID:6035-1722672000-1722704400@www.itafirearmtraining.com
SUMMARY:ITA Competency & Private Use – Legal & Basic Handgun
DESCRIPTION:Includes the following unit standards: \n\nKnowledge of the Act (U/S 117705)\nBasic handgun (U/S 119649)\n\nBooking essential
URL:https://www.itafirearmtraining.com/event/ita-competency-private-use-legal-basic-handgun-22/
LOCATION:ITA Training Centre\, 31 Voortrekker Road\, Mindalore\, Krugersdorp\, Gauteng\, South Africa
CATEGORIES:Private Use and Competency
ATTACH;FMTTYPE=image/jpeg:https://www.itafirearmtraining.com/wp-content/uploads/2020/12/ITA-Training-for-compentency-applications-Handgun.jpg
ORGANIZER;CN="ITA Firearm Training":MAILTO:support@itafirearmtraining.com
END:VEVENT
BEGIN:VEVENT
DTSTART;VALUE=DATE:20240731
DTEND;VALUE=DATE:20240802
DTSTAMP:20260421T223858
CREATED:20240718T094104Z
LAST-MODIFIED:20240718T094104Z
UID:6039-1722466800-1722553199@www.itafirearmtraining.com
SUMMARY:ITA Competency & Private Use - Shotgun & Rifle(s)
DESCRIPTION:Includes the following unit standards: \n\nBasic Shotgun (U/S 119652)\nBasic Bolt Action Rifle (U/S 119651)\nBasic Selef-Loading Rifle (U/S 119650)\n\nBooking essential
URL:https://www.itafirearmtraining.com/event/ita-competency-private-use-shotgun-rifles-20/
LOCATION:ITA Training Centre\, 31 Voortrekker Road\, Mindalore\, Krugersdorp\, Gauteng\, South Africa
CATEGORIES:Private Use and Competency
ATTACH;FMTTYPE=image/jpeg:https://www.itafirearmtraining.com/wp-content/uploads/2020/12/ITA-Training-for-compentency-applications-Shotgun-BoltAction-SelfLoading.jpg
ORGANIZER;CN="ITA Firearm Training":MAILTO:support@itafirearmtraining.com
END:VEVENT
BEGIN:VEVENT
DTSTART;TZID=Africa/Johannesburg:20240731T080000
DTEND;TZID=Africa/Johannesburg:20240731T170000
DTSTAMP:20260421T223858
CREATED:20240718T094006Z
LAST-MODIFIED:20240718T094006Z
UID:6033-1722412800-1722445200@www.itafirearmtraining.com
SUMMARY:ITA Competency & Private Use – Legal & Basic Handgun
DESCRIPTION:Includes the following unit standards: \n\nKnowledge of the Act (U/S 117705)\nBasic handgun (U/S 119649)\n\nBooking essential
URL:https://www.itafirearmtraining.com/event/ita-competency-private-use-legal-basic-handgun-21/
LOCATION:ITA Training Centre\, 31 Voortrekker Road\, Mindalore\, Krugersdorp\, Gauteng\, South Africa
CATEGORIES:Private Use and Competency
ATTACH;FMTTYPE=image/jpeg:https://www.itafirearmtraining.com/wp-content/uploads/2020/12/ITA-Training-for-compentency-applications-Handgun.jpg
ORGANIZER;CN="ITA Firearm Training":MAILTO:support@itafirearmtraining.com
END:VEVENT
BEGIN:VEVENT
DTSTART;TZID=Africa/Johannesburg:20240725T080000
DTEND;TZID=Africa/Johannesburg:20240725T170000
DTSTAMP:20260421T223858
CREATED:20240517T121134Z
LAST-MODIFIED:20240517T121134Z
UID:5740-1721894400-1721926800@www.itafirearmtraining.com
SUMMARY:ITA Competency & Business Purposes – Legal & Basic Shotgun
DESCRIPTION:Includes the following unit standards: \n\nBusiness Purposes Shotgun (U/S 123514)\nBusiness Purposes Bolt Action Rifle (U/S 123519)\nBusiness Purposes Self-Loading Rifle (U/S 123511)\n\nBooking essential
URL:https://www.itafirearmtraining.com/event/ita-competency-business-purposes-legal-basic-shotgun-7/
LOCATION:ITA Training Centre\, 31 Voortrekker Road\, Mindalore\, Krugersdorp\, Gauteng\, South Africa
CATEGORIES:Business Purposes
ATTACH;FMTTYPE=image/jpeg:https://www.itafirearmtraining.com/wp-content/uploads/2024/03/ITA-Business-Purposes.jpg
ORGANIZER;CN="ITA Firearm Training":MAILTO:support@itafirearmtraining.com
END:VEVENT
BEGIN:VEVENT
DTSTART;TZID=Africa/Johannesburg:20240724T080000
DTEND;TZID=Africa/Johannesburg:20240724T170000
DTSTAMP:20260421T223858
CREATED:20240517T121053Z
LAST-MODIFIED:20240517T121053Z
UID:5738-1721808000-1721840400@www.itafirearmtraining.com
SUMMARY:ITA Competency & Business Purposes – Legal & Basic Handgun
DESCRIPTION:Includes the following unit standard: \n\nTBC (U/S 123515)\n\nBooking essential
URL:https://www.itafirearmtraining.com/event/ita-competency-business-purposes-legal-basic-handgun-7/
LOCATION:ITA Training Centre\, 31 Voortrekker Road\, Mindalore\, Krugersdorp\, Gauteng\, South Africa
CATEGORIES:Business Purposes
ATTACH;FMTTYPE=image/jpeg:https://www.itafirearmtraining.com/wp-content/uploads/2024/03/ITA-BP-Handgun.jpg
ORGANIZER;CN="ITA Firearm Training":MAILTO:support@itafirearmtraining.com
END:VEVENT
BEGIN:VEVENT
DTSTART;TZID=Africa/Johannesburg:20240723T083000
DTEND;TZID=Africa/Johannesburg:20240723T170000
DTSTAMP:20260421T223858
CREATED:20240701T083939Z
LAST-MODIFIED:20240701T083939Z
UID:5951-1721723400-1721754000@www.itafirearmtraining.com
SUMMARY:Training for Regulation 21
DESCRIPTION:The purpose of this course is to ensure that security officers issued with firearms undergo at least one proper practical training and theoretical briefing session every 12 months. \nDuration: One day (May vary dependent on existing skill level and previous training received) \nBooking essential \nContact: support@itafirearmtraining.com
URL:https://www.itafirearmtraining.com/event/training-for-regulation-21-2/
LOCATION:ITA Training Centre\, 31 Voortrekker Road\, Mindalore\, Krugersdorp\, Gauteng\, South Africa
CATEGORIES:Business Purposes
ATTACH;FMTTYPE=image/jpeg:https://www.itafirearmtraining.com/wp-content/uploads/2024/07/REG-21.jpg
ORGANIZER;CN="ITA Firearm Training":MAILTO:support@itafirearmtraining.com
END:VEVENT
BEGIN:VEVENT
DTSTART;VALUE=DATE:20240722
DTEND;VALUE=DATE:20240724
DTSTAMP:20260421T223858
CREATED:20240517T120839Z
LAST-MODIFIED:20240517T120839Z
UID:5732-1721689200-1721775599@www.itafirearmtraining.com
SUMMARY:ITA Competency & Private Use - Shotgun & Rifle(s)
DESCRIPTION:Includes the following unit standards: \n\nBasic Shotgun (U/S 119652)\nBasic Bolt Action Rifle (U/S 119651)\nBasic Selef-Loading Rifle (U/S 119650)\n\nBooking essential
URL:https://www.itafirearmtraining.com/event/ita-competency-private-use-shotgun-rifles-18/
LOCATION:ITA Training Centre\, 31 Voortrekker Road\, Mindalore\, Krugersdorp\, Gauteng\, South Africa
CATEGORIES:Private Use and Competency
ATTACH;FMTTYPE=image/jpeg:https://www.itafirearmtraining.com/wp-content/uploads/2020/12/ITA-Training-for-compentency-applications-Shotgun-BoltAction-SelfLoading.jpg
ORGANIZER;CN="ITA Firearm Training":MAILTO:support@itafirearmtraining.com
END:VEVENT
BEGIN:VEVENT
DTSTART;TZID=Africa/Johannesburg:20240722T080000
DTEND;TZID=Africa/Johannesburg:20240722T170000
DTSTAMP:20260421T223858
CREATED:20240517T120800Z
LAST-MODIFIED:20240517T120800Z
UID:5730-1721635200-1721667600@www.itafirearmtraining.com
SUMMARY:ITA Competency & Private Use – Legal & Basic Handgun
DESCRIPTION:Includes the following unit standards: \n\nKnowledge of the Act (U/S 117705)\nBasic handgun (U/S 119649)\n\nBooking essential
URL:https://www.itafirearmtraining.com/event/ita-competency-private-use-legal-basic-handgun-19/
LOCATION:ITA Training Centre\, 31 Voortrekker Road\, Mindalore\, Krugersdorp\, Gauteng\, South Africa
CATEGORIES:Private Use and Competency
ATTACH;FMTTYPE=image/jpeg:https://www.itafirearmtraining.com/wp-content/uploads/2020/12/ITA-Training-for-compentency-applications-Handgun.jpg
ORGANIZER;CN="ITA Firearm Training":MAILTO:support@itafirearmtraining.com
END:VEVENT
BEGIN:VEVENT
DTSTART;TZID=Africa/Johannesburg:20240719T083000
DTEND;TZID=Africa/Johannesburg:20240719T170000
DTSTAMP:20260421T223858
CREATED:20240325T143223Z
LAST-MODIFIED:20240325T143223Z
UID:5646-1721377800-1721408400@www.itafirearmtraining.com
SUMMARY:PFTC Grading Shoot
DESCRIPTION:Booking is essential so please liaise directly with Denica Spagna on (011) 955 6775 or admin@itafirearmtraining.com. \nThere is only limited space for this Grading Shoot. Individuals whose grading shoots have expired will be given preference. Bookings will be on a first come first serve basis. Please take along a copy of your identity book\, as well as your personal protection equipment\, firearms and sufficient ammunition. \nThe Range Fee will be R150.00 per shottist.
URL:https://www.itafirearmtraining.com/event/pftc-grading-shoot-6/
LOCATION:ITA Training Centre\, 31 Voortrekker Road\, Mindalore\, Krugersdorp\, Gauteng\, South Africa
CATEGORIES:Grading shoot
ATTACH;FMTTYPE=image/jpeg:https://www.itafirearmtraining.com/wp-content/uploads/2024/03/PFTC-Grading-Shoot-Course-Fully-Booked.jpg
ORGANIZER;CN="ITA Firearm Training":MAILTO:support@itafirearmtraining.com
END:VEVENT
BEGIN:VEVENT
DTSTART;VALUE=DATE:20240717
DTEND;VALUE=DATE:20240719
DTSTAMP:20260421T223858
CREATED:20240620T090109Z
LAST-MODIFIED:20240620T090109Z
UID:5924-1721257200-1721343599@www.itafirearmtraining.com
SUMMARY:ITA Competency & Private Use - Shotgun & Rifle(s)
DESCRIPTION:Includes the following unit standards: \n\nBasic Shotgun (U/S 119652)\nBasic Bolt Action Rifle (U/S 119651)\nBasic Selef-Loading Rifle (U/S 119650)\n\nBooking essential
URL:https://www.itafirearmtraining.com/event/ita-competency-private-use-shotgun-rifles-19/
LOCATION:ITA Training Centre\, 31 Voortrekker Road\, Mindalore\, Krugersdorp\, Gauteng\, South Africa
CATEGORIES:Private Use and Competency
ATTACH;FMTTYPE=image/jpeg:https://www.itafirearmtraining.com/wp-content/uploads/2020/12/ITA-Training-for-compentency-applications-Shotgun-BoltAction-SelfLoading.jpg
ORGANIZER;CN="ITA Firearm Training":MAILTO:support@itafirearmtraining.com
END:VEVENT
BEGIN:VEVENT
DTSTART;TZID=Africa/Johannesburg:20240717T080000
DTEND;TZID=Africa/Johannesburg:20240717T170000
DTSTAMP:20260421T223858
CREATED:20240620T090100Z
LAST-MODIFIED:20240620T090100Z
UID:5923-1721203200-1721235600@www.itafirearmtraining.com
SUMMARY:ITA Competency & Private Use – Legal & Basic Handgun
DESCRIPTION:Includes the following unit standards: \n\nKnowledge of the Act (U/S 117705)\nBasic handgun (U/S 119649)\n\nBooking essential
URL:https://www.itafirearmtraining.com/event/ita-competency-private-use-legal-basic-handgun-20/
LOCATION:ITA Training Centre\, 31 Voortrekker Road\, Mindalore\, Krugersdorp\, Gauteng\, South Africa
CATEGORIES:Private Use and Competency
ATTACH;FMTTYPE=image/jpeg:https://www.itafirearmtraining.com/wp-content/uploads/2020/12/ITA-Training-for-compentency-applications-Handgun.jpg
ORGANIZER;CN="ITA Firearm Training":MAILTO:support@itafirearmtraining.com
END:VEVENT
BEGIN:VEVENT
DTSTART;TZID=Africa/Johannesburg:20240711T080000
DTEND;TZID=Africa/Johannesburg:20240711T170000
DTSTAMP:20260421T223858
CREATED:20240517T121020Z
LAST-MODIFIED:20240517T121020Z
UID:5736-1720684800-1720717200@www.itafirearmtraining.com
SUMMARY:ITA Competency & Business Purposes – Legal & Basic Shotgun
DESCRIPTION:Includes the following unit standards: \n\nBusiness Purposes Shotgun (U/S 123514)\nBusiness Purposes Bolt Action Rifle (U/S 123519)\nBusiness Purposes Self-Loading Rifle (U/S 123511)\n\nBooking essential
URL:https://www.itafirearmtraining.com/event/ita-competency-business-purposes-legal-basic-shotgun-6/
LOCATION:ITA Training Centre\, 31 Voortrekker Road\, Mindalore\, Krugersdorp\, Gauteng\, South Africa
CATEGORIES:Business Purposes
ATTACH;FMTTYPE=image/jpeg:https://www.itafirearmtraining.com/wp-content/uploads/2024/03/ITA-Business-Purposes.jpg
ORGANIZER;CN="ITA Firearm Training":MAILTO:support@itafirearmtraining.com
END:VEVENT
BEGIN:VEVENT
DTSTART;TZID=Africa/Johannesburg:20240710T080000
DTEND;TZID=Africa/Johannesburg:20240710T170000
DTSTAMP:20260421T223858
CREATED:20240517T120952Z
LAST-MODIFIED:20240517T120952Z
UID:5734-1720598400-1720630800@www.itafirearmtraining.com
SUMMARY:ITA Competency & Business Purposes – Legal & Basic Handgun
DESCRIPTION:Includes the following unit standard: \n\nTBC (U/S 123515)\n\nBooking essential
URL:https://www.itafirearmtraining.com/event/ita-competency-business-purposes-legal-basic-handgun-6/
LOCATION:ITA Training Centre\, 31 Voortrekker Road\, Mindalore\, Krugersdorp\, Gauteng\, South Africa
CATEGORIES:Business Purposes
ATTACH;FMTTYPE=image/jpeg:https://www.itafirearmtraining.com/wp-content/uploads/2024/03/ITA-BP-Handgun.jpg
ORGANIZER;CN="ITA Firearm Training":MAILTO:support@itafirearmtraining.com
END:VEVENT
BEGIN:VEVENT
DTSTART;VALUE=DATE:20240706
DTEND;VALUE=DATE:20240708
DTSTAMP:20260421T223858
CREATED:20240517T120656Z
LAST-MODIFIED:20240517T120656Z
UID:5728-1720306800-1720393199@www.itafirearmtraining.com
SUMMARY:ITA Competency & Private Use - Shotgun & Rifle(s)
DESCRIPTION:Includes the following unit standards: \n\nBasic Shotgun (U/S 119652)\nBasic Bolt Action Rifle (U/S 119651)\nBasic Selef-Loading Rifle (U/S 119650)\n\nBooking essential
URL:https://www.itafirearmtraining.com/event/ita-competency-private-use-shotgun-rifles-17/
LOCATION:ITA Training Centre\, 31 Voortrekker Road\, Mindalore\, Krugersdorp\, Gauteng\, South Africa
CATEGORIES:Private Use and Competency
ATTACH;FMTTYPE=image/jpeg:https://www.itafirearmtraining.com/wp-content/uploads/2020/12/ITA-Training-for-compentency-applications-Shotgun-BoltAction-SelfLoading.jpg
ORGANIZER;CN="ITA Firearm Training":MAILTO:support@itafirearmtraining.com
END:VEVENT
BEGIN:VEVENT
DTSTART;TZID=Africa/Johannesburg:20240706T080000
DTEND;TZID=Africa/Johannesburg:20240706T170000
DTSTAMP:20260421T223858
CREATED:20240517T120629Z
LAST-MODIFIED:20240517T120629Z
UID:5726-1720252800-1720285200@www.itafirearmtraining.com
SUMMARY:ITA Competency & Private Use – Legal & Basic Handgun
DESCRIPTION:Includes the following unit standards: \n\nKnowledge of the Act (U/S 117705)\nBasic handgun (U/S 119649)\n\nBooking essential
URL:https://www.itafirearmtraining.com/event/ita-competency-private-use-legal-basic-handgun-18/
LOCATION:ITA Training Centre\, 31 Voortrekker Road\, Mindalore\, Krugersdorp\, Gauteng\, South Africa
CATEGORIES:Private Use and Competency
ATTACH;FMTTYPE=image/jpeg:https://www.itafirearmtraining.com/wp-content/uploads/2020/12/ITA-Training-for-compentency-applications-Handgun.jpg
ORGANIZER;CN="ITA Firearm Training":MAILTO:support@itafirearmtraining.com
END:VEVENT
BEGIN:VEVENT
DTSTART;VALUE=DATE:20240703
DTEND;VALUE=DATE:20240705
DTSTAMP:20260421T223858
CREATED:20240517T120529Z
LAST-MODIFIED:20240517T120529Z
UID:5724-1720047600-1720133999@www.itafirearmtraining.com
SUMMARY:ITA Competency & Private Use - Shotgun & Rifle(s)
DESCRIPTION:Includes the following unit standards: \n\nBasic Shotgun (U/S 119652)\nBasic Bolt Action Rifle (U/S 119651)\nBasic Selef-Loading Rifle (U/S 119650)\n\nBooking essential
URL:https://www.itafirearmtraining.com/event/ita-competency-private-use-shotgun-rifles-16/
LOCATION:ITA Training Centre\, 31 Voortrekker Road\, Mindalore\, Krugersdorp\, Gauteng\, South Africa
CATEGORIES:Private Use and Competency
ATTACH;FMTTYPE=image/jpeg:https://www.itafirearmtraining.com/wp-content/uploads/2020/12/ITA-Training-for-compentency-applications-Shotgun-BoltAction-SelfLoading.jpg
ORGANIZER;CN="ITA Firearm Training":MAILTO:support@itafirearmtraining.com
END:VEVENT
BEGIN:VEVENT
DTSTART;TZID=Africa/Johannesburg:20240703T080000
DTEND;TZID=Africa/Johannesburg:20240703T170000
DTSTAMP:20260421T223858
CREATED:20240517T120501Z
LAST-MODIFIED:20240517T120501Z
UID:5722-1719993600-1720026000@www.itafirearmtraining.com
SUMMARY:ITA Competency & Private Use – Legal & Basic Handgun
DESCRIPTION:Includes the following unit standards: \n\nKnowledge of the Act (U/S 117705)\nBasic handgun (U/S 119649)\n\nBooking essential
URL:https://www.itafirearmtraining.com/event/ita-competency-private-use-legal-basic-handgun-17/
LOCATION:ITA Training Centre\, 31 Voortrekker Road\, Mindalore\, Krugersdorp\, Gauteng\, South Africa
CATEGORIES:Private Use and Competency
ATTACH;FMTTYPE=image/jpeg:https://www.itafirearmtraining.com/wp-content/uploads/2020/12/ITA-Training-for-compentency-applications-Handgun.jpg
ORGANIZER;CN="ITA Firearm Training":MAILTO:support@itafirearmtraining.com
END:VEVENT
BEGIN:VEVENT
DTSTART;TZID=Africa/Johannesburg:20240627T080000
DTEND;TZID=Africa/Johannesburg:20240627T170000
DTSTAMP:20260421T223858
CREATED:20240409T102811Z
LAST-MODIFIED:20240409T102811Z
UID:5675-1719475200-1719507600@www.itafirearmtraining.com
SUMMARY:ITA Competency & Business Purposes – Legal & Basic Shotgun
DESCRIPTION:Includes the following unit standards: \n\nBusiness Purposes Shotgun (U/S 123514)\nBusiness Purposes Bolt Action Rifle (U/S 123519)\nBusiness Purposes Self-Loading Rifle (U/S 123511)\n\nBooking essential
URL:https://www.itafirearmtraining.com/event/ita-competency-business-purposes-legal-basic-shotgun-5/
LOCATION:ITA Training Centre\, 31 Voortrekker Road\, Mindalore\, Krugersdorp\, Gauteng\, South Africa
CATEGORIES:Business Purposes
ATTACH;FMTTYPE=image/jpeg:https://www.itafirearmtraining.com/wp-content/uploads/2024/03/ITA-Business-Purposes.jpg
ORGANIZER;CN="ITA Firearm Training":MAILTO:support@itafirearmtraining.com
END:VEVENT
BEGIN:VEVENT
DTSTART;TZID=Africa/Johannesburg:20240626T080000
DTEND;TZID=Africa/Johannesburg:20240626T170000
DTSTAMP:20260421T223858
CREATED:20240409T102752Z
LAST-MODIFIED:20240409T102752Z
UID:5673-1719388800-1719421200@www.itafirearmtraining.com
SUMMARY:ITA Competency & Business Purposes – Legal & Basic Handgun
DESCRIPTION:Includes the following unit standard: \n\nTBC (U/S 123515)\n\nBooking essential
URL:https://www.itafirearmtraining.com/event/ita-competency-business-purposes-legal-basic-handgun-5/
LOCATION:ITA Training Centre\, 31 Voortrekker Road\, Mindalore\, Krugersdorp\, Gauteng\, South Africa
CATEGORIES:Business Purposes
ATTACH;FMTTYPE=image/jpeg:https://www.itafirearmtraining.com/wp-content/uploads/2024/03/ITA-BP-Handgun.jpg
ORGANIZER;CN="ITA Firearm Training":MAILTO:support@itafirearmtraining.com
END:VEVENT
END:VCALENDAR